BEGIN:VCALENDAR
VERSION:2.0
PRODID:icalendar-ruby
CALSCALE:GREGORIAN
METHOD:PUBLISH
BEGIN:VEVENT
DTSTAMP:20260423T073155Z
UID:446-2431066@hearto.tithelysetup5.com
DTSTART:20261011T143000Z
DTEND:20261011T153000Z
CLASS:PUBLIC
CREATED:20260422T214155
DESCRIPTION:Jackson Campus Sunday Service
LAST-MODIFIED:20260422T214155
LOCATION:5225 Clinton Rd\, Jackson\, MI 49201
SUMMARY:Jackson Campus Second Service
URL;VALUE=URI:https://hotlstrong.com/events/jackson-campus-second-service/2
 026-10-11
END:VEVENT
END:VCALENDAR
