BEGIN:VCALENDAR
VERSION:2.0
PRODID:icalendar-ruby
CALSCALE:GREGORIAN
METHOD:PUBLISH
BEGIN:VEVENT
DTSTAMP:20260423T182304Z
UID:448-2435253@hearto.tithelysetup5.com
DTSTART:20260927T140000Z
DTEND:20260927T150000Z
CLASS:PUBLIC
CREATED:20260423T125948
DESCRIPTION:Second Service (HOTL BKN)
LAST-MODIFIED:20260423T125948
LOCATION:7031 Jefferson Rd\, Brooklyn\, MI 49230
SUMMARY:Second Service (HOTL BKN)
URL;VALUE=URI:https://hotlstrong.com/events/second-service-hotl-bkn/2026-09
 -27
END:VEVENT
END:VCALENDAR
