BEGIN:VCALENDAR
VERSION:2.0
PRODID:icalendar-ruby
CALSCALE:GREGORIAN
METHOD:PUBLISH
BEGIN:VEVENT
DTSTAMP:20260423T232053Z
UID:448-2437979@hearto.tithelysetup5.com
DTSTART:20261025T140000Z
DTEND:20261025T150000Z
CLASS:PUBLIC
CREATED:20260423T185040
DESCRIPTION:Second Service (HOTL BKN)
LAST-MODIFIED:20260423T185040
LOCATION:7031 Jefferson Rd\, Brooklyn\, MI 49230
SUMMARY:Second Service (HOTL BKN)
URL;VALUE=URI:https://hotlstrong.com/events/second-service-hotl-bkn/2026-10
 -25
END:VEVENT
END:VCALENDAR
