BEGIN:VCALENDAR
VERSION:2.0
PRODID:icalendar-ruby
CALSCALE:GREGORIAN
METHOD:PUBLISH
BEGIN:VEVENT
DTSTAMP:20260424T004253Z
UID:448-2437980@hearto.tithelysetup5.com
DTSTART:20261101T150000Z
DTEND:20261101T160000Z
CLASS:PUBLIC
CREATED:20260423T185040
DESCRIPTION:Second Service (HOTL BKN)
LAST-MODIFIED:20260423T185040
LOCATION:7031 Jefferson Rd\, Brooklyn\, MI 49230
SUMMARY:Second Service (HOTL BKN)
URL;VALUE=URI:https://hotlstrong.com/events/second-service-hotl-bkn/2026-11
 -01
END:VEVENT
END:VCALENDAR
