BEGIN:VCALENDAR
VERSION:2.0
PRODID:icalendar-ruby
CALSCALE:GREGORIAN
METHOD:PUBLISH
BEGIN:VEVENT
DTSTAMP:20260424T043800Z
UID:450-2439439@hearto.tithelysetup5.com
DTSTART:20260830T223000Z
DTEND:20260830T233000Z
CLASS:PUBLIC
CREATED:20260423T214352
DESCRIPTION:The Lodge Student Ministry
LAST-MODIFIED:20260423T214352
LOCATION:7031 Jefferson Rd\, Brooklyn\, MI 49230
SUMMARY:The Lodge Student Ministry
URL;VALUE=URI:https://hotlstrong.com/events/the-lodge-student-ministry/2026
 -08-30
END:VEVENT
END:VCALENDAR
