BEGIN:VCALENDAR
VERSION:2.0
PRODID:icalendar-ruby
CALSCALE:GREGORIAN
METHOD:PUBLISH
BEGIN:VEVENT
DTSTAMP:20260424T135219Z
UID:450-2440808@hearto.tithelysetup5.com
DTSTART:20261018T223000Z
DTEND:20261018T233000Z
CLASS:PUBLIC
CREATED:20260424T071209
DESCRIPTION:The Lodge Student Ministry
LAST-MODIFIED:20260424T071209
LOCATION:7031 Jefferson Rd\, Brooklyn\, MI 49230
SUMMARY:The Lodge Student Ministry
URL;VALUE=URI:https://hotlstrong.com/events/the-lodge-student-ministry/2026
 -10-18
END:VEVENT
END:VCALENDAR
