BEGIN:VCALENDAR
VERSION:2.0
PRODID:icalendar-ruby
CALSCALE:GREGORIAN
METHOD:PUBLISH
BEGIN:VEVENT
DTSTAMP:20260424T083111Z
UID:449-2439392@hearto.tithelysetup5.com
DTSTART:20261011T153000Z
DTEND:20261011T163000Z
CLASS:PUBLIC
CREATED:20260423T214352
DESCRIPTION:Third Service (HOTL BKN)
LAST-MODIFIED:20260423T214352
LOCATION:7031 Jefferson Rd\, Brooklyn\, MI 49230
SUMMARY:Third Service (HOTL BKN)
URL;VALUE=URI:https://hotlstrong.com/events/third-service-hotl-bkn/2026-10-
 11
END:VEVENT
END:VCALENDAR
